BEGIN:VCALENDAR
VERSION:2.0
PRODID:-//Svenska Judoförbundet - ECPv6.15.20//NONSGML v1.0//EN
CALSCALE:GREGORIAN
METHOD:PUBLISH
X-WR-CALNAME:Svenska Judoförbundet
X-ORIGINAL-URL:https://judo.se
X-WR-CALDESC:Händelser för Svenska Judoförbundet
REFRESH-INTERVAL;VALUE=DURATION:PT1H
X-Robots-Tag:noindex
X-PUBLISHED-TTL:PT1H
BEGIN:VTIMEZONE
TZID:Europe/Stockholm
BEGIN:DAYLIGHT
TZOFFSETFROM:+0100
TZOFFSETTO:+0200
TZNAME:CEST
DTSTART:20230326T010000
END:DAYLIGHT
BEGIN:STANDARD
TZOFFSETFROM:+0200
TZOFFSETTO:+0100
TZNAME:CET
DTSTART:20231029T010000
END:STANDARD
BEGIN:DAYLIGHT
TZOFFSETFROM:+0100
TZOFFSETTO:+0200
TZNAME:CEST
DTSTART:20240331T010000
END:DAYLIGHT
BEGIN:STANDARD
TZOFFSETFROM:+0200
TZOFFSETTO:+0100
TZNAME:CET
DTSTART:20241027T010000
END:STANDARD
BEGIN:DAYLIGHT
TZOFFSETFROM:+0100
TZOFFSETTO:+0200
TZNAME:CEST
DTSTART:20250330T010000
END:DAYLIGHT
BEGIN:STANDARD
TZOFFSETFROM:+0200
TZOFFSETTO:+0100
TZNAME:CET
DTSTART:20251026T010000
END:STANDARD
END:VTIMEZONE
BEGIN:VEVENT
DTSTART;TZID=Europe/Stockholm:20240303T100000
DTEND;TZID=Europe/Stockholm:20240303T173000
DTSTAMP:20260420T123241
CREATED:20231207T094547Z
LAST-MODIFIED:20240222T102016Z
UID:14929-1709460000-1709487000@judo.se
SUMMARY:Regelkurs\, Jönköping
DESCRIPTION:Inbjudan & anmälan: https://drive.google.com/file/d/17hFIAYWx75cH_-FGXlpGW0lMVesfUASl/view 
URL:https://judo.se/event/regelkurs-jonkoping/
LOCATION:Jönköpings Judoklubb\, Ekhagsringen 17\, Jönköping\, 55456\, Sverige
CATEGORIES:Startsida,Utbildningar
ORGANIZER;CN="J%C3%B6nk%C3%B6pings Judoklubb":MAILTO:linnea.wiberg@hotmail.com
END:VEVENT
END:VCALENDAR