BEGIN:VCALENDAR
VERSION:2.0
PRODID:-//Svenska Judoförbundet - ECPv6.15.20//NONSGML v1.0//EN
CALSCALE:GREGORIAN
METHOD:PUBLISH
X-ORIGINAL-URL:https://judo.se
X-WR-CALDESC:Händelser för Svenska Judoförbundet
REFRESH-INTERVAL;VALUE=DURATION:PT1H
X-Robots-Tag:noindex
X-PUBLISHED-TTL:PT1H
BEGIN:VTIMEZONE
TZID:Europe/Stockholm
BEGIN:DAYLIGHT
TZOFFSETFROM:+0100
TZOFFSETTO:+0200
TZNAME:CEST
DTSTART:20160327T010000
END:DAYLIGHT
BEGIN:STANDARD
TZOFFSETFROM:+0200
TZOFFSETTO:+0100
TZNAME:CET
DTSTART:20161030T010000
END:STANDARD
BEGIN:DAYLIGHT
TZOFFSETFROM:+0100
TZOFFSETTO:+0200
TZNAME:CEST
DTSTART:20170326T010000
END:DAYLIGHT
BEGIN:STANDARD
TZOFFSETFROM:+0200
TZOFFSETTO:+0100
TZNAME:CET
DTSTART:20171029T010000
END:STANDARD
BEGIN:DAYLIGHT
TZOFFSETFROM:+0100
TZOFFSETTO:+0200
TZNAME:CEST
DTSTART:20180325T010000
END:DAYLIGHT
BEGIN:STANDARD
TZOFFSETFROM:+0200
TZOFFSETTO:+0100
TZNAME:CET
DTSTART:20181028T010000
END:STANDARD
BEGIN:DAYLIGHT
TZOFFSETFROM:+0100
TZOFFSETTO:+0200
TZNAME:CEST
DTSTART:20190331T010000
END:DAYLIGHT
BEGIN:STANDARD
TZOFFSETFROM:+0200
TZOFFSETTO:+0100
TZNAME:CET
DTSTART:20191027T010000
END:STANDARD
BEGIN:DAYLIGHT
TZOFFSETFROM:+0100
TZOFFSETTO:+0200
TZNAME:CEST
DTSTART:20200329T010000
END:DAYLIGHT
BEGIN:STANDARD
TZOFFSETFROM:+0200
TZOFFSETTO:+0100
TZNAME:CET
DTSTART:20201025T010000
END:STANDARD
BEGIN:DAYLIGHT
TZOFFSETFROM:+0100
TZOFFSETTO:+0200
TZNAME:CEST
DTSTART:20210328T010000
END:DAYLIGHT
BEGIN:STANDARD
TZOFFSETFROM:+0200
TZOFFSETTO:+0100
TZNAME:CET
DTSTART:20211031T010000
END:STANDARD
BEGIN:DAYLIGHT
TZOFFSETFROM:+0100
TZOFFSETTO:+0200
TZNAME:CEST
DTSTART:20220327T010000
END:DAYLIGHT
BEGIN:STANDARD
TZOFFSETFROM:+0200
TZOFFSETTO:+0100
TZNAME:CET
DTSTART:20221030T010000
END:STANDARD
BEGIN:DAYLIGHT
TZOFFSETFROM:+0100
TZOFFSETTO:+0200
TZNAME:CEST
DTSTART:20230326T010000
END:DAYLIGHT
BEGIN:STANDARD
TZOFFSETFROM:+0200
TZOFFSETTO:+0100
TZNAME:CET
DTSTART:20231029T010000
END:STANDARD
BEGIN:DAYLIGHT
TZOFFSETFROM:+0100
TZOFFSETTO:+0200
TZNAME:CEST
DTSTART:20240331T010000
END:DAYLIGHT
BEGIN:STANDARD
TZOFFSETFROM:+0200
TZOFFSETTO:+0100
TZNAME:CET
DTSTART:20241027T010000
END:STANDARD
BEGIN:DAYLIGHT
TZOFFSETFROM:+0100
TZOFFSETTO:+0200
TZNAME:CEST
DTSTART:20250330T010000
END:DAYLIGHT
BEGIN:STANDARD
TZOFFSETFROM:+0200
TZOFFSETTO:+0100
TZNAME:CET
DTSTART:20251026T010000
END:STANDARD
END:VTIMEZONE
BEGIN:VEVENT
DTSTART;TZID=Europe/Stockholm:20241116T090000
DTEND;TZID=Europe/Stockholm:20241117T160000
DTSTAMP:20260420T203657
CREATED:20240529T133047Z
LAST-MODIFIED:20240529T133047Z
UID:15882-1731747600-1731859200@judo.se
SUMMARY:Assisterande klubbtränarutbildning\, Lilla Edet
DESCRIPTION:﻿
URL:https://judo.se/event/assisterande-klubbtranarutbildning-lilla-edet/
LOCATION:Lilla Edets JK\, Brodalsvägen 3\, Lilla Edet\, 463 32\, Sverige
CATEGORIES:Startsida,Utbildningar
END:VEVENT
BEGIN:VEVENT
DTSTART;TZID=Europe/Stockholm:20241026T090000
DTEND;TZID=Europe/Stockholm:20241027T160000
DTSTAMP:20260420T203657
CREATED:20231207T145721Z
LAST-MODIFIED:20241011T123635Z
UID:14969-1729933200-1730044800@judo.se
SUMMARY:Assisterande klubbtränarutbildning\, Umeå (INSTÄLLD)
DESCRIPTION:
URL:https://judo.se/event/assisterande-klubbtranarutbildning-umea-6/
LOCATION:IKSU Sport\, Sportgränd 7\, Umeå\, Sverige
CATEGORIES:Utbildningar
ORGANIZER;CN="IKSU Kampsport - Judo":MAILTO:info@iksukampsport.se
END:VEVENT
BEGIN:VEVENT
DTSTART;TZID=Europe/Stockholm:20241026T090000
DTEND;TZID=Europe/Stockholm:20241027T160000
DTSTAMP:20260420T203657
CREATED:20231207T145408Z
LAST-MODIFIED:20240906T130138Z
UID:14965-1729933200-1730044800@judo.se
SUMMARY:Assisterande klubbtränarutbildning\, Skurup
DESCRIPTION:Mer info kommer senare! \nAnmälan: https://educationwebregistration.idrottonline.se/home/index/1950366 
URL:https://judo.se/event/assisterande-klubbtranarutbildning-skurup-7/
LOCATION:Wemmenhögs Budoförening\, Vaktgatan\, Skurup\, 274 34\, Sverige
CATEGORIES:Startsida,Utbildningar
ORGANIZER;CN="Wemmenh%C3%B6gs Budof%C3%B6rening":MAILTO:judo@wemmenhogsbudo.se
END:VEVENT
BEGIN:VEVENT
DTSTART;TZID=Europe/Stockholm:20240413T090000
DTEND;TZID=Europe/Stockholm:20240414T160000
DTSTAMP:20260420T203657
CREATED:20231207T131601Z
LAST-MODIFIED:20240308T152857Z
UID:14948-1712998800-1713110400@judo.se
SUMMARY:Assisterande klubbtränarutbildning\, Borlänge
DESCRIPTION:Anmälan: https://educationwebregistration.idrottonline.se/home/index/1891766
URL:https://judo.se/event/assisterande-klubbtranarutbildning-borlange-3/
LOCATION:Borlänge Judo Club\, Teknikergatan 1\, Borlänge\, 78170\, Sverige
CATEGORIES:Startsida,Utbildningar
ORGANIZER;CN="Borl%C3%A4nge Judo Club":MAILTO:info@borlangejudo.se
END:VEVENT
BEGIN:VEVENT
DTSTART;TZID=Europe/Stockholm:20240413T090000
DTEND;TZID=Europe/Stockholm:20240414T160000
DTSTAMP:20260420T203657
CREATED:20231207T130806Z
LAST-MODIFIED:20240308T150545Z
UID:14946-1712998800-1713110400@judo.se
SUMMARY:Assisterande klubbtränarutbildning\, Skurup
DESCRIPTION:Anmälan: https://educationwebregistration.idrottonline.se/home/index/1891760
URL:https://judo.se/event/assisterande-klubbtranarutbildning-skurup-6/
LOCATION:Wemmenhögs Budoförening\, Vaktgatan\, Skurup\, 274 34\, Sverige
CATEGORIES:Startsida,Utbildningar
ORGANIZER;CN="Wemmenh%C3%B6gs Budof%C3%B6rening":MAILTO:judo@wemmenhogsbudo.se
END:VEVENT
BEGIN:VEVENT
DTSTART;VALUE=DATE:20240217
DTEND;VALUE=DATE:20240219
DTSTAMP:20260420T203657
CREATED:20231207T091331Z
LAST-MODIFIED:20240112T155014Z
UID:14923-1708128000-1708300799@judo.se
SUMMARY:Assisterande klubbtränarutbildning\, Stockholm
DESCRIPTION:﻿
URL:https://judo.se/event/assisterande-klubbtranarutbildning-stockholm-4/
LOCATION:SPIF Judo\, Tellusborgsvägen 22\, Hägersten\, 126 32\, Sverige
CATEGORIES:Startsida,Utbildningar
END:VEVENT
BEGIN:VEVENT
DTSTART;TZID=Europe/Stockholm:20231118T090000
DTEND;TZID=Europe/Stockholm:20231119T160000
DTSTAMP:20260420T203657
CREATED:20221110T125132Z
LAST-MODIFIED:20231012T093112Z
UID:12552-1700298000-1700409600@judo.se
SUMMARY:Assisterande klubbtränarutbildning\, Borlänge
DESCRIPTION:﻿
URL:https://judo.se/event/assisterande-klubbtranarutbildning-borlange-2/
LOCATION:Borlänge Judo Club\, Teknikergatan 1\, Borlänge\, 78170\, Sverige
CATEGORIES:Startsida,Utbildningar
ORGANIZER;CN="Borl%C3%A4nge Judo Club":MAILTO:info@borlangejudo.se
END:VEVENT
BEGIN:VEVENT
DTSTART;TZID=Europe/Stockholm:20231021T083000
DTEND;TZID=Europe/Stockholm:20231022T163000
DTSTAMP:20260420T203657
CREATED:20230911T142357Z
LAST-MODIFIED:20230911T142435Z
UID:14484-1697877000-1697992200@judo.se
SUMMARY:Assisterande klubbtränarutbildning\, Ängelholm
DESCRIPTION:﻿
URL:https://judo.se/event/assisterande-klubbtranarutbildning-angelholm/
LOCATION:Ängelholms JK\, Nybrovägen 5a\, ängelholm\, 26266
CATEGORIES:Startsida,Utbildningar
END:VEVENT
BEGIN:VEVENT
DTSTART;TZID=Europe/Stockholm:20230930T090000
DTEND;TZID=Europe/Stockholm:20231001T160000
DTSTAMP:20260420T203657
CREATED:20221110T110753Z
LAST-MODIFIED:20230908T145118Z
UID:12548-1696064400-1696176000@judo.se
SUMMARY:Assisterande klubbtränarutbildning\, Linköping
DESCRIPTION:﻿
URL:https://judo.se/event/assisterande-klubbtranarutbildning-linkoping-3/
LOCATION:Linköpings Judoklubb\, Nya Tanneforsvägen 13\, Linköping\, 582 42\, Sverige
CATEGORIES:Startsida,Utbildningar
ORGANIZER;CN="Link%C3%B6pings JK":MAILTO:info@linkopingjudo.org
END:VEVENT
BEGIN:VEVENT
DTSTART;TZID=Europe/Stockholm:20230902T090000
DTEND;TZID=Europe/Stockholm:20230903T160000
DTSTAMP:20260420T203657
CREATED:20221110T110010Z
LAST-MODIFIED:20230630T170136Z
UID:12544-1693645200-1693756800@judo.se
SUMMARY:Riksfortbildning\, Lindesberg
DESCRIPTION:﻿
URL:https://judo.se/event/riksfortbildning-lindesberg-5/
LOCATION:Lindesberg Arena\, Nyborgsgatan 1\, Lindesberg\, Sverige
CATEGORIES:Startsida,Utbildningar
ORGANIZER;CN="Fr%C3%B6vi Judoklubb":MAILTO:info@frovijudo.se
END:VEVENT
BEGIN:VEVENT
DTSTART;TZID=Europe/Stockholm:20230513T090000
DTEND;TZID=Europe/Stockholm:20230514T170000
DTSTAMP:20260420T203657
CREATED:20230207T155137Z
LAST-MODIFIED:20230419T130246Z
UID:13152-1683968400-1684083600@judo.se
SUMMARY:Assisterande klubbtränarutbildning\, Skurup
DESCRIPTION:﻿
URL:https://judo.se/event/assisterande-klubbtranarutbildning-skurup-5/
LOCATION:Skurup Sparbank Arena\, Vaktgatan\, Skurup\, Sverige
CATEGORIES:Startsida,Utbildningar
ORGANIZER;CN="Wemmenh%C3%B6gs Budof%C3%B6rening":MAILTO:judo@wemmenhogsbudo.se
END:VEVENT
BEGIN:VEVENT
DTSTART;TZID=Europe/Stockholm:20230415T090000
DTEND;TZID=Europe/Stockholm:20230416T160000
DTSTAMP:20260420T203657
CREATED:20230303T130256Z
LAST-MODIFIED:20230322T160000Z
UID:13293-1681549200-1681660800@judo.se
SUMMARY:Assisterande klubbtränarutbildning\, Stockholm (INSTÄLLD)
DESCRIPTION:﻿
URL:https://judo.se/event/assisterande-klubbtranarutbildning-stockholm-3/
LOCATION:SPIF Judo\, Tellusborgsvägen 22\, Hägersten\, 126 32\, Sverige
END:VEVENT
BEGIN:VEVENT
DTSTART;TZID=Europe/Stockholm:20230325T090000
DTEND;TZID=Europe/Stockholm:20230326T160000
DTSTAMP:20260420T203657
CREATED:20221109T154825Z
LAST-MODIFIED:20230223T134414Z
UID:12521-1679734800-1679846400@judo.se
SUMMARY:Assisterande klubbtränarutbildning\, Umeå
DESCRIPTION:﻿
URL:https://judo.se/event/assisterande-klubbtranarutbildning-umea-5/
LOCATION:IKSU Sport\, Sportgränd 7\, Umeå\, Sverige
CATEGORIES:Startsida,Utbildningar
ORGANIZER;CN="IKSU Kampsport - Judo":MAILTO:info@iksukampsport.se
END:VEVENT
BEGIN:VEVENT
DTSTART;TZID=Europe/Stockholm:20230211T090000
DTEND;TZID=Europe/Stockholm:20230212T160000
DTSTAMP:20260420T203657
CREATED:20221109T155010Z
LAST-MODIFIED:20230112T102040Z
UID:12523-1676106000-1676217600@judo.se
SUMMARY:Assisterande klubbtränarutbildning\, Skövde
DESCRIPTION:﻿
URL:https://judo.se/event/assisterande-klubbtranarutbildning-skovde/
LOCATION:Skövde Judoklubb\, Gesällgatan 5\, Skövde\, 541 50\, Sverige
CATEGORIES:Startsida,Utbildningar
END:VEVENT
BEGIN:VEVENT
DTSTART;VALUE=DATE:20230211
DTEND;VALUE=DATE:20230213
DTSTAMP:20260420T203657
CREATED:20221213T135048Z
LAST-MODIFIED:20230110T102617Z
UID:12774-1676073600-1676246399@judo.se
SUMMARY:Assisterande klubbtränarutbildning\, Karlstad
DESCRIPTION:﻿
URL:https://judo.se/event/assisterande-klubbtranarutbildning-karlstad/
LOCATION:Karlstad JK\, Orrholmsgatan 4\, Karlstad\, 652 15
CATEGORIES:Startsida,Utbildningar
END:VEVENT
BEGIN:VEVENT
DTSTART;TZID=Europe/Stockholm:20221112T090000
DTEND;TZID=Europe/Stockholm:20221113T160000
DTSTAMP:20260420T203657
CREATED:20220822T145737Z
LAST-MODIFIED:20220822T145737Z
UID:11942-1668243600-1668355200@judo.se
SUMMARY:Assisterande Klubbtränarutbildning\, Knivsta
DESCRIPTION:﻿
URL:https://judo.se/event/assisterande-klubbtranarutbildning-knivsta/
LOCATION:Knivsta Judoklubb\, Parkvägen 31A\, Knivsta\, 74140
CATEGORIES:Startsida,Utbildningar
END:VEVENT
BEGIN:VEVENT
DTSTART;TZID=Europe/Stockholm:20221022T090000
DTEND;TZID=Europe/Stockholm:20221023T160000
DTSTAMP:20260420T203657
CREATED:20220112T122332Z
LAST-MODIFIED:20221005T101401Z
UID:10857-1666429200-1666540800@judo.se
SUMMARY:Assisterande Klubbtränarutbildning\, Skurup (INSTÄLLD)
DESCRIPTION:Länk till anmälan!
URL:https://judo.se/event/assisterande-klubbtranarutbildning-malmo/
LOCATION:Wemmenhögs Budoförening\, Vaktgatan\, Skurup\, 274 34\, Sverige
ORGANIZER;CN="Judo Syd":MAILTO:judosyd.kassor@gmail.com
END:VEVENT
BEGIN:VEVENT
DTSTART;TZID=Europe/Stockholm:20220903T080000
DTEND;TZID=Europe/Stockholm:20220904T160000
DTSTAMP:20260420T203657
CREATED:20220103T050000Z
LAST-MODIFIED:20220614T081857Z
UID:10623-1662192000-1662307200@judo.se
SUMMARY:Riksfortbildning\, Lindesberg
DESCRIPTION:﻿
URL:https://judo.se/event/riksfortbildning-lindesberg-4/
LOCATION:Lindesberg Arena\, Nyborgsgatan 1\, Lindesberg\, Sverige
CATEGORIES:Startsida,Utbildningar
ORGANIZER;CN="Svenska Judof%C3%B6rbundet":MAILTO:info@judo.se
END:VEVENT
BEGIN:VEVENT
DTSTART;TZID=Europe/Stockholm:20220813T090000
DTEND;TZID=Europe/Stockholm:20220814T160000
DTSTAMP:20260420T203657
CREATED:20220421T050000Z
LAST-MODIFIED:20220429T093920Z
UID:10845-1660381200-1660492800@judo.se
SUMMARY:Assisterande klubbtränarutbildning\, Varberg
DESCRIPTION:﻿
URL:https://judo.se/event/assisterande-klubbtranarutbildning-varberg/
LOCATION:Varbergs Judoklubb\, Danska vägen 5\, Varberg\, 432 51\, Sverige
CATEGORIES:Startsida,Utbildningar
ORGANIZER;CN="Varbergs Judoklubb":MAILTO:info@vjk.nu
END:VEVENT
BEGIN:VEVENT
DTSTART;TZID=Europe/Stockholm:20220521T090000
DTEND;TZID=Europe/Stockholm:20220522T160000
DTSTAMP:20260420T203657
CREATED:20220429T094216Z
LAST-MODIFIED:20220512T094135Z
UID:11408-1653123600-1653235200@judo.se
SUMMARY:Assisterande klubbtränarutbildning\, Mölndal (INSTÄLLD)
DESCRIPTION:﻿
URL:https://judo.se/event/assisterande-klubbtranarutbildning-molndal/
LOCATION:IKVM\, Pinnharvsgatan 11\, Mölndal\, Sverige
CATEGORIES:Utbildningar
ORGANIZER;CN="IKVM":MAILTO:malin.nordin@judo.se
END:VEVENT
BEGIN:VEVENT
DTSTART;TZID=Europe/Stockholm:20220507T090000
DTEND;TZID=Europe/Stockholm:20220508T160000
DTSTAMP:20260420T203657
CREATED:20220207T060000Z
LAST-MODIFIED:20220427T122033Z
UID:10847-1651914000-1652025600@judo.se
SUMMARY:Assisterande Klubbtränarutbildning\, Skurup
DESCRIPTION:Öppen för sen anmälan till 1 maj! \n﻿
URL:https://judo.se/event/assisterande-klubbtranarutbildning-skurup-4/
LOCATION:Wemmenhögs Budoförening\, Vaktgatan\, Skurup\, 274 34\, Sverige
CATEGORIES:Startsida,Utbildningar
ORGANIZER;CN="Wemmenh%C3%B6gs Budof%C3%B6rening":MAILTO:judo@wemmenhogsbudo.se
END:VEVENT
BEGIN:VEVENT
DTSTART;TZID=Europe/Stockholm:20211023T090000
DTEND;TZID=Europe/Stockholm:20211024T160000
DTSTAMP:20260420T203657
CREATED:20211023T050000Z
LAST-MODIFIED:20210820T145924Z
UID:8891-1634979600-1635091200@judo.se
SUMMARY:Assisterande klubbtränarutbildning\, syd
DESCRIPTION:
URL:https://judo.se/event/assisterande-klubbtranarutbildning-6/
LOCATION:Wemmenhögs Budoförening\, Vaktgatan\, Skurup\, 274 34\, Sverige
CATEGORIES:Startsida,Utbildningar
ORGANIZER;CN="Judo Syd":MAILTO:judosyd.kassor@gmail.com
END:VEVENT
BEGIN:VEVENT
DTSTART;TZID=Europe/Stockholm:20201003T090000
DTEND;TZID=Europe/Stockholm:20201004T160000
DTSTAMP:20260420T203657
CREATED:20191122T104801Z
LAST-MODIFIED:20200915T135818Z
UID:7141-1601715600-1601827200@judo.se
SUMMARY:Assisterande Klubbtränarutbildning\, Borlänge INSTÄLLD
DESCRIPTION:Inbjudan kommer senast 2 månader innan.
URL:https://judo.se/event/assisterande-klubbtranarutbildning-borlange/
LOCATION:Borlänge Judo Club\, Teknikergatan 1\, Borlänge\, 78170\, Sverige
CATEGORIES:Utbildningar
ORGANIZER;CN="Borl%C3%A4nge Judo Club":MAILTO:info@borlangejudo.se
END:VEVENT
BEGIN:VEVENT
DTSTART;TZID=Europe/Stockholm:20200502T090000
DTEND;TZID=Europe/Stockholm:20200503T160000
DTSTAMP:20260420T203657
CREATED:20191122T103833Z
LAST-MODIFIED:20200331T110104Z
UID:7126-1588410000-1588521600@judo.se
SUMMARY:Assisterande Klubbtränarutbildning\, Kristinehamn (INSTÄLLD)
DESCRIPTION:Inställd kurs på grund av smittspridningen av coronaviruset.\n﻿
URL:https://judo.se/event/assisterande-klubbtranarutbildning-kristinehamn/
LOCATION:Kristinehamns JK\, Fiskartorpsvägen 4\, Kristinehamn\, 681 54
CATEGORIES:Startsida,Utbildningar
END:VEVENT
BEGIN:VEVENT
DTSTART;VALUE=DATE:20200328
DTEND;VALUE=DATE:20200330
DTSTAMP:20260420T203657
CREATED:20191122T101523Z
LAST-MODIFIED:20220908T114734Z
UID:7124-1585353600-1585526399@judo.se
SUMMARY:Assisterande Klubbtränarutbildning\, Umeå (INSTÄLLD)
DESCRIPTION:Inställd med anledning av risk för smittspridning av Covid-19. \n﻿
URL:https://judo.se/event/assisterande-klubbtranarutbildning-umea-2/
LOCATION:IKSU Sport\, Sportgränd 7\, Umeå\, Sverige
CATEGORIES:Startsida,Utbildningar
ORGANIZER;CN="IKSU Kampsport - Judo":MAILTO:info@iksukampsport.se
END:VEVENT
BEGIN:VEVENT
DTSTART;TZID=Europe/Stockholm:20200222T083000
DTEND;TZID=Europe/Stockholm:20200223T160000
DTSTAMP:20260420T203657
CREATED:20191122T100642Z
LAST-MODIFIED:20191209T154712Z
UID:7116-1582360200-1582473600@judo.se
SUMMARY:Assisterande Klubbtränarutbildning\, Göteborg
DESCRIPTION:﻿
URL:https://judo.se/event/assisterande-klubbtranarutbildning-goteborg/
LOCATION:IKVM\, Pinnharvsgatan 11\, Mölndal\, Sverige
CATEGORIES:Startsida,Utbildningar
ORGANIZER;CN="IKVM":MAILTO:malin.nordin@judo.se
END:VEVENT
BEGIN:VEVENT
DTSTART;TZID=Europe/Stockholm:20200111T083000
DTEND;TZID=Europe/Stockholm:20200112T150000
DTSTAMP:20260420T203657
CREATED:20191120T111557Z
LAST-MODIFIED:20191202T142136Z
UID:7103-1578731400-1578841200@judo.se
SUMMARY:Assisterande Klubbtränarutbildning\, Stockholm
DESCRIPTION:﻿
URL:https://judo.se/event/assisterande-klubbtranarutbildning-stockholm-2/
LOCATION:IK Södras Dojo\, Skarpnäcks Gårdsväg 10\, Skarpnäck\, 12831\, Sverige
CATEGORIES:Startsida,Utbildningar
ORGANIZER;CN="IK S%C3%B6dra Judo":MAILTO:tavlingar@iksodra.com
END:VEVENT
BEGIN:VEVENT
DTSTART;TZID=Europe/Stockholm:20191026T080000
DTEND;TZID=Europe/Stockholm:20191027T150000
DTSTAMP:20260420T203657
CREATED:20181030T140956Z
LAST-MODIFIED:20191017T081438Z
UID:4126-1572076800-1572188400@judo.se
SUMMARY:Assisterande Klubbtränarutbildning Olofström
DESCRIPTION:﻿
URL:https://judo.se/event/assisterande-klubbtranarutbildning-5/
LOCATION:Olofströms JK\, Olsgatan 1\, Olofström\, 29324\, Sverige
CATEGORIES:Utbildningar
END:VEVENT
BEGIN:VEVENT
DTSTART;TZID=Europe/Stockholm:20190427T083000
DTEND;TZID=Europe/Stockholm:20190428T160000
DTSTAMP:20260420T203657
CREATED:20181030T143137Z
LAST-MODIFIED:20190416T142844Z
UID:4135-1556353800-1556467200@judo.se
SUMMARY:Assisterande klubbtränarutbildning Varberg
DESCRIPTION:UTBILDNINGEN HAR BLIVIT INSTÄLLD! \n 
URL:https://judo.se/event/assisterande-klubbtranarutbildning-halland/
LOCATION:Varbergs Judoklubb\, Danska vägen 5\, Varberg\, 432 51\, Sverige
CATEGORIES:Utbildningar
ORGANIZER;CN="Varbergs Judoklubb":MAILTO:info@vjk.nu
END:VEVENT
BEGIN:VEVENT
DTSTART;VALUE=DATE:20171125
DTEND;VALUE=DATE:20171127
DTSTAMP:20260420T203657
CREATED:20170607T100527Z
LAST-MODIFIED:20171108T095504Z
UID:1034-1511568000-1511740799@judo.se
SUMMARY:Assisterande Klubbtränarutbildning Skurup
DESCRIPTION:
URL:https://judo.se/event/assisterande-klubbtranarutbildning-skurup/
LOCATION:Wemmenhögs Budoförening\, Vaktgatan\, Skurup\, 274 34\, Sverige
CATEGORIES:Utbildningar
END:VEVENT
END:VCALENDAR